BEGIN:VCALENDAR
VERSION:2.0
PRODID:-//Berks Photographic Society - ECPv6.15.20//NONSGML v1.0//EN
CALSCALE:GREGORIAN
METHOD:PUBLISH
X-WR-CALNAME:Berks Photographic Society
X-ORIGINAL-URL:https://berksphotographic.org
X-WR-CALDESC:Events for Berks Photographic Society
REFRESH-INTERVAL;VALUE=DURATION:PT1H
X-Robots-Tag:noindex
X-PUBLISHED-TTL:PT1H
BEGIN:VTIMEZONE
TZID:America/New_York
BEGIN:DAYLIGHT
TZOFFSETFROM:-0500
TZOFFSETTO:-0400
TZNAME:EDT
DTSTART:20240310T070000
END:DAYLIGHT
BEGIN:STANDARD
TZOFFSETFROM:-0400
TZOFFSETTO:-0500
TZNAME:EST
DTSTART:20241103T060000
END:STANDARD
BEGIN:DAYLIGHT
TZOFFSETFROM:-0500
TZOFFSETTO:-0400
TZNAME:EDT
DTSTART:20250309T070000
END:DAYLIGHT
BEGIN:STANDARD
TZOFFSETFROM:-0400
TZOFFSETTO:-0500
TZNAME:EST
DTSTART:20251102T060000
END:STANDARD
BEGIN:DAYLIGHT
TZOFFSETFROM:-0500
TZOFFSETTO:-0400
TZNAME:EDT
DTSTART:20260308T070000
END:DAYLIGHT
BEGIN:STANDARD
TZOFFSETFROM:-0400
TZOFFSETTO:-0500
TZNAME:EST
DTSTART:20261101T060000
END:STANDARD
END:VTIMEZONE
BEGIN:VEVENT
DTSTART;TZID=America/New_York:20250301T090000
DTEND;TZID=America/New_York:20250301T150000
DTSTAMP:20260425T135110
CREATED:20250121T211035Z
LAST-MODIFIED:20250121T211035Z
UID:43969-1740819600-1740841200@berksphotographic.org
SUMMARY:Intro to Photography Workshops - Part one
DESCRIPTION:Intro to Photography Workshops \nWe are very excited to be offering our “Introduction to Digital Photography” workshops again this March. If you are a beginning photographer\, or want to hone your skills even more\, this is for you! If you have friends who are interested in photography but don’t know how to get started – let them know. There is a large discount for BPS members\, and a chance to join the club and get the discounted price all at the same time. \nWe had a great group last year\, and hope to do so again this year.\nWe are also in the planning stages for an additional workshop on editing with Lightroom and Photoshop. Stay tuned for more details on that. \nRegister at: http://tinyurl.com/BPSPhotoWorkshop
URL:https://berksphotographic.org/event/intro-to-photography-workshops-part-one/
CATEGORIES:Classes & Workshops,Training
END:VEVENT
BEGIN:VEVENT
DTSTART;TZID=America/New_York:20250303T190000
DTEND;TZID=America/New_York:20250303T210000
DTSTAMP:20260425T135110
CREATED:20250121T211539Z
LAST-MODIFIED:20250204T212034Z
UID:43973-1741028400-1741035600@berksphotographic.org
SUMMARY:David Day “Creative Intentional Camera Movement” 
DESCRIPTION: March 3\, 2025 at 7:00 PM: David Day will give a presentation entitled “ICM in the Studio…..A Different Approach to Creating Abstract Images” \n  \nDavid Day resides in Flat Rock\, NC. His interest in fine art monochrome and infrared photography began in Connecticut during the 1990’s. During that time\, he utilized traditional photographic and darkroom techniques to produce New England themed images such as light houses and revolution era landmarks. \n  \nAfter moving to North Carolina in 2014\, David took several years off from exhibiting his work to focus on developing a new form of abstract photography. From a happy accident that occurred one afternoon in his studio\, he found that application of intentional camera movement techniques to simple still-life subjects such as string\, wire\, leaves\, weeds\, and tissue paper produced abstract images that were completely different from images produced by other ICM photographers. \n  \nHis early ICM experiments resulted in new techniques and images that have earned a variety of innovation and recognition awards including ‘Artist of the Year’ at the Northern Light Gallery in Albuquerque\, NM. His work has also been featured in several local and regional magazines as well as a number of on-line exhibitions and publications. \n  \nAt present\, David’s focus is on production of ICM images utilizing plastic bags\, tissue paper\, newsprint and glass objects as subject matter. He has produced a number of YouTube videos to teach his methods to others and coordinates an on-line collective of over 3\,500 members to further the development of abstract ICM-generated photography.   https://ddayicmart.com/ \nJoin us at the GoggleWorks\, or request a Zoom link to join online at https://store.berksphotographic.org/product/club-donation/ . For this meeting a donation (for non-members) is accepted but not required. \n 
URL:https://berksphotographic.org/event/david-day-creative-intentional-camera-movement/
CATEGORIES:Monday night meeting,ZOOM
END:VEVENT
BEGIN:VEVENT
DTSTART;TZID=America/New_York:20250315T090000
DTEND;TZID=America/New_York:20250315T150000
DTSTAMP:20260425T135110
CREATED:20250121T211148Z
LAST-MODIFIED:20250121T211148Z
UID:43971-1742029200-1742050800@berksphotographic.org
SUMMARY:Intro to Photography Workshops - Part two
DESCRIPTION:Intro to Photography Workshops \nWe are very excited to be offering our “Introduction to Digital Photography” workshops again this March. If you are a beginning photographer\, or want to hone your skills even more\, this is for you! If you have friends who are interested in photography but don’t know how to get started – let them know. There is a large discount for BPS members\, and a chance to join the club and get the discounted price all at the same time. \nWe had a great group last year\, and hope to do so again this year.\nWe are also in the planning stages for an additional workshop on editing with Lightroom and Photoshop. Stay tuned for more details on that. \nRegister at: http://tinyurl.com/BPSPhotoWorkshop
URL:https://berksphotographic.org/event/intro-to-photography-workshops-part-two/
CATEGORIES:Classes & Workshops,Training
END:VEVENT
BEGIN:VEVENT
DTSTART;TZID=America/New_York:20250317T190000
DTEND;TZID=America/New_York:20250317T210000
DTSTAMP:20260425T135110
CREATED:20250121T211655Z
LAST-MODIFIED:20250204T211923Z
UID:43975-1742238000-1742245200@berksphotographic.org
SUMMARY:Dan Oleski “Fine Art of Automobiles and Close-up Details”
DESCRIPTION:– March 17\, 2025 at 7:00 PM: Dan Oleski will give a talk on “From Film to Digital\, a Former Photojournalist Drives into Automotive Photography” \nLocal Photographer\, Dan Oleski\, will talk about his freelance photography work in Lancaster and Philadelphia. He will share samples of his photographs which include: Sports\, macro photography\, rock and roll\, street photography and more. \nDan will talk about using social media to see how his current work resonates with a larger audience and his experience in exhibiting his automotive photography at juried art shows for the past four years. \nDan graduated from the Pennsylvania State University with a BA in Art and a concentration in photography. His career started in photojournalism where he covered assignments for The Lancaster Newspapers\, The Philadelphia Inquirer\, The New York Times\, Rolling Stone\, Forbes\, Success and various advertising agencies and public relations firms. He’s enjoyed several photo essays in the Philadelphia Inquirer’s Sunday magazine\, as well as covering rock and roll concerts for the Spectrum in the early 1990s. \nSee some of Dan’s amazing work at https://clic.com/collections/dan-oleski Or follow him on Instagram @Danopod. \nThis will be a paid event for non-members with a $10 donation. For non-members interested in attending\, please register by making your $10 donation at https://store.berksphotographic.org/product/club-donation/.
URL:https://berksphotographic.org/event/dan-oleski-fine-art-of-automobiles-and-close-up-details/
CATEGORIES:Monday night meeting,ZOOM
END:VEVENT
BEGIN:VEVENT
DTSTART;TZID=America/New_York:20250331T190000
DTEND;TZID=America/New_York:20250331T210000
DTSTAMP:20260425T135110
CREATED:20250214T213543Z
LAST-MODIFIED:20250214T213543Z
UID:44020-1743447600-1743454800@berksphotographic.org
SUMMARY:March Competition - "A Time to Reflect"
DESCRIPTION:March Competition – “A Time to Reflect”\nBy James Egitto \nOur theme for this competition is A Time to Reflect. Sometimes it’s the reflections that catch our eye and inspire our compositions. Maybe it’s a reflection in water\, glass\, metal\, or a pupil. Maybe it’s a mirror image\, or an abstract distortion\, or a hidden detail\, or that double-exposure effect created by a window. \nReflect on what you can create in the next few weeks and show us what you’ve got.  Categories are Nature and Pictorial\, and the submission deadline is midnight\, Sunday March 16\, 2025. . The judging/critique will be on March 31. \nAll members are encouraged to get out and shoot for this competition. If you are new to the club\, we hope you’ll give it a try. If you’ve been a member forever and have never entered a competition\, now’s the time. If you always enter – do it again! Look around – reflective surfaces are everywhere – lakes\, ponds\, puddles\, plastic\, metal\, or windows!\nYou can read all of the details on BPS competitions HERE. \nOur judge for this competition is Michael Brown. Here’s some of what Michael had to say when we asked him about himself: \n“To me\, photography is an exercise of mindfulness – a respect for what I see\, and the tools I work with. My photos are an expression of what interests me. I enjoy exploring the subject of my interest with the camera. It is a means for me to better understand the world around me\, and it doesn’t matter if thousands of others took photos from the same perspective because the perspective is new to me\, the exploration and visualization are new to me. \nI’ve been critiquing photographs and portfolios for 15 years. Recently I was certified as a competition judge by the Maryland Photography Alliance which offers and provides guidance\, training\, presentations\, and competition judging to its member camera clubs. \nI assess photographs the same way I assess any art\, if it grabs my attention\, I get closer. If it holds my attention and is compelling\, I explore. During exploration\, I critique. What do I like or don’t like? Why? How can it be improved\, or what would make it better? A photograph has to inform me\, tell me something I don’t already know\, or provide me a unique perspective to something I do know. \nAs with all art\, critiques of photographs are subjective\, therefore prone to error and bias. Yes\, there are technical aspects of captured images that can be measured\, but what role they play in making an image compelling is up to the viewer.”
URL:https://berksphotographic.org/event/march-competition-a-time-to-reflect/
CATEGORIES:Hybrid Zoom Meeting,Photo Competitions
END:VEVENT
END:VCALENDAR