BEGIN:VCALENDAR
VERSION:2.0
PRODID:-//Berks Photographic Society - ECPv6.15.20//NONSGML v1.0//EN
CALSCALE:GREGORIAN
METHOD:PUBLISH
X-WR-CALNAME:Berks Photographic Society
X-ORIGINAL-URL:https://berksphotographic.org
X-WR-CALDESC:Events for Berks Photographic Society
REFRESH-INTERVAL;VALUE=DURATION:PT1H
X-Robots-Tag:noindex
X-PUBLISHED-TTL:PT1H
BEGIN:VTIMEZONE
TZID:America/New_York
BEGIN:DAYLIGHT
TZOFFSETFROM:-0500
TZOFFSETTO:-0400
TZNAME:EDT
DTSTART:20190310T070000
END:DAYLIGHT
BEGIN:STANDARD
TZOFFSETFROM:-0400
TZOFFSETTO:-0500
TZNAME:EST
DTSTART:20191103T060000
END:STANDARD
BEGIN:DAYLIGHT
TZOFFSETFROM:-0500
TZOFFSETTO:-0400
TZNAME:EDT
DTSTART:20200308T070000
END:DAYLIGHT
BEGIN:STANDARD
TZOFFSETFROM:-0400
TZOFFSETTO:-0500
TZNAME:EST
DTSTART:20201101T060000
END:STANDARD
BEGIN:DAYLIGHT
TZOFFSETFROM:-0500
TZOFFSETTO:-0400
TZNAME:EDT
DTSTART:20210314T070000
END:DAYLIGHT
BEGIN:STANDARD
TZOFFSETFROM:-0400
TZOFFSETTO:-0500
TZNAME:EST
DTSTART:20211107T060000
END:STANDARD
END:VTIMEZONE
BEGIN:VEVENT
DTSTART;TZID=America/New_York:20200127T193000
DTEND;TZID=America/New_York:20200127T213000
DTSTAMP:20260425T102658
CREATED:20200120T211225Z
LAST-MODIFIED:20200122T185614Z
UID:4189-1580153400-1580160600@berksphotographic.org
SUMMARY:Backyard Bird Photography – Ginnie Lodge
DESCRIPTION:It’s wonderful to trek out into the woods\, fields\, and parks to photograph birds\, but there are also birds nearby\, right in your own neighborhood. Maybe it is not possible for you to go in search of birds\, the weather may be bad\, you may be unable to walk long distances or sit in the cold\, or you just might like the comfort of your own home! The goal of this presentation is to give you some ideas and tools you can use to make interesting and pleasing images of the birds that are right in your own backyard. We’ll talk about planning ahead\, settings and lenses\, making the shot\, post processing\, bird identification\, and the most important ingredient: patience!
URL:https://berksphotographic.org/event/backyard-bird-photography-ginnie-lodge/
LOCATION:Berks Photographic Society\, 201 Washington St.\, Reading\, PA\, 19601\, United States
CATEGORIES:Programs
END:VEVENT
END:VCALENDAR