BEGIN:VCALENDAR
VERSION:2.0
PRODID:-//Berks Photographic Society - ECPv6.15.20//NONSGML v1.0//EN
CALSCALE:GREGORIAN
METHOD:PUBLISH
X-WR-CALNAME:Berks Photographic Society
X-ORIGINAL-URL:https://berksphotographic.org
X-WR-CALDESC:Events for Berks Photographic Society
REFRESH-INTERVAL;VALUE=DURATION:PT1H
X-Robots-Tag:noindex
X-PUBLISHED-TTL:PT1H
BEGIN:VTIMEZONE
TZID:America/New_York
BEGIN:DAYLIGHT
TZOFFSETFROM:-0500
TZOFFSETTO:-0400
TZNAME:EDT
DTSTART:20190310T070000
END:DAYLIGHT
BEGIN:STANDARD
TZOFFSETFROM:-0400
TZOFFSETTO:-0500
TZNAME:EST
DTSTART:20191103T060000
END:STANDARD
BEGIN:DAYLIGHT
TZOFFSETFROM:-0500
TZOFFSETTO:-0400
TZNAME:EDT
DTSTART:20200308T070000
END:DAYLIGHT
BEGIN:STANDARD
TZOFFSETFROM:-0400
TZOFFSETTO:-0500
TZNAME:EST
DTSTART:20201101T060000
END:STANDARD
BEGIN:DAYLIGHT
TZOFFSETFROM:-0500
TZOFFSETTO:-0400
TZNAME:EDT
DTSTART:20210314T070000
END:DAYLIGHT
BEGIN:STANDARD
TZOFFSETFROM:-0400
TZOFFSETTO:-0500
TZNAME:EST
DTSTART:20211107T060000
END:STANDARD
END:VTIMEZONE
BEGIN:VEVENT
DTSTART;TZID=America/New_York:20200217T193000
DTEND;TZID=America/New_York:20200217T213000
DTSTAMP:20260424T163549
CREATED:20200129T160223Z
LAST-MODIFIED:20200129T160228Z
UID:4386-1581967800-1581975000@berksphotographic.org
SUMMARY:Light\, Exposure\, and Composition – Tom Stoeri
DESCRIPTION:Enjoy an interactive discussion on techniques\, technical insight\, and thought processes for using light\, exposure\, and composition to improve your photography.
URL:https://berksphotographic.org/event/light-exposure-and-composition-tom-stoeri/
LOCATION:Berks Photographic Society\, 201 Washington St.\, Reading\, PA\, 19601\, United States
CATEGORIES:Programs
END:VEVENT
BEGIN:VEVENT
DTSTART;TZID=America/New_York:20200210T193000
DTEND;TZID=America/New_York:20200210T213000
DTSTAMP:20260424T163549
CREATED:20200129T160042Z
LAST-MODIFIED:20200129T160046Z
UID:4384-1581363000-1581370200@berksphotographic.org
SUMMARY:What Photography Judges Look For - Richard Lewis
DESCRIPTION:This is a fun\, yet very frank look at that hardest job any photographer can do… Judging! We’ll examine both the objective and subjective things that make a photograph great and exhibition worthy. Plus\, YOU GET TO BE THE JUDGE! This is a presentation with audience participation and you get to judge some of my work and the work of the photography masters. You’ll discover that no photograph is perfect. \n \n  \nRichard Lewis\, Photographer \nRichard Lewis has been a professional and fine art photographer since the 1970’s with a passion for landscapes\, abandoned buildings and interesting people. He uses both a professional digital camera and an iPhone to create his work. \nRichard’s inspiration comes from landscape painters and has developed a style he calls “Painting with a Camera”. This involves equal effort in both creating and post processing an image. \nRichard is an active photography blogger\, lecturer\, instructor and conducts workshops in the New Jersey Pine Barrens to help photographers find their unique creative voice \nWebsite: RichardLewisPhotography.com
URL:https://berksphotographic.org/event/what-photography-judges-look-for-richard-lewis/
LOCATION:Berks Photographic Society\, 201 Washington St.\, Reading\, PA\, 19601\, United States
CATEGORIES:Programs
END:VEVENT
BEGIN:VEVENT
DTSTART;TZID=America/New_York:20200203T193000
DTEND;TZID=America/New_York:20200203T213000
DTSTAMP:20260424T163549
CREATED:20200120T220501Z
LAST-MODIFIED:20200122T185643Z
UID:4194-1580758200-1580765400@berksphotographic.org
SUMMARY:Cognitive Composition – Henry Rowan
DESCRIPTION:Henry Rowan will be speaking to our group on Monday\, February 3 at 7:30. Henry is an award-winning professional photographer and is the founder and Executive Director of the Pennsylvania Center for Photography (PCP) in Doylestown PA. The PCP promotes the photographic experience by providing a nurturing environment and resources where photographers can create\, discuss and show their work. Several BPS members have been selected to participate in juried shows at PCP over the last few years. Henry has also been very supportive of BPS by promoting our activities.  \n  \nHenry will speak on “Cognitive Composition”. This talk is not to be missed as there is literally none better out there. Members who were fortunate enough to have heard Henry speak at the BPS Annual Conference a few years ago will know how true this statement truly is. The concepts discussed by Henry will set the stage for a wonderful year of photography. Don’t miss out on this wonderful evening. \n  \nYou can explore the PCP website at: www.pacenterforphotography.org
URL:https://berksphotographic.org/event/cognitive-composition-henry-rowan/
LOCATION:Berks Photographic Society\, 201 Washington St.\, Reading\, PA\, 19601\, United States
CATEGORIES:Programs
END:VEVENT
BEGIN:VEVENT
DTSTART;TZID=America/New_York:20200127T193000
DTEND;TZID=America/New_York:20200127T213000
DTSTAMP:20260424T163549
CREATED:20200120T211225Z
LAST-MODIFIED:20200122T185614Z
UID:4189-1580153400-1580160600@berksphotographic.org
SUMMARY:Backyard Bird Photography – Ginnie Lodge
DESCRIPTION:It’s wonderful to trek out into the woods\, fields\, and parks to photograph birds\, but there are also birds nearby\, right in your own neighborhood. Maybe it is not possible for you to go in search of birds\, the weather may be bad\, you may be unable to walk long distances or sit in the cold\, or you just might like the comfort of your own home! The goal of this presentation is to give you some ideas and tools you can use to make interesting and pleasing images of the birds that are right in your own backyard. We’ll talk about planning ahead\, settings and lenses\, making the shot\, post processing\, bird identification\, and the most important ingredient: patience!
URL:https://berksphotographic.org/event/backyard-bird-photography-ginnie-lodge/
LOCATION:Berks Photographic Society\, 201 Washington St.\, Reading\, PA\, 19601\, United States
CATEGORIES:Programs
END:VEVENT
END:VCALENDAR