BEGIN:VCALENDAR
VERSION:2.0
PRODID:-//Berks Photographic Society - ECPv6.15.20//NONSGML v1.0//EN
CALSCALE:GREGORIAN
METHOD:PUBLISH
X-ORIGINAL-URL:https://berksphotographic.org
X-WR-CALDESC:Events for Berks Photographic Society
REFRESH-INTERVAL;VALUE=DURATION:PT1H
X-Robots-Tag:noindex
X-PUBLISHED-TTL:PT1H
BEGIN:VTIMEZONE
TZID:America/New_York
BEGIN:DAYLIGHT
TZOFFSETFROM:-0500
TZOFFSETTO:-0400
TZNAME:EDT
DTSTART:20240310T070000
END:DAYLIGHT
BEGIN:STANDARD
TZOFFSETFROM:-0400
TZOFFSETTO:-0500
TZNAME:EST
DTSTART:20241103T060000
END:STANDARD
BEGIN:DAYLIGHT
TZOFFSETFROM:-0500
TZOFFSETTO:-0400
TZNAME:EDT
DTSTART:20250309T070000
END:DAYLIGHT
BEGIN:STANDARD
TZOFFSETFROM:-0400
TZOFFSETTO:-0500
TZNAME:EST
DTSTART:20251102T060000
END:STANDARD
BEGIN:DAYLIGHT
TZOFFSETFROM:-0500
TZOFFSETTO:-0400
TZNAME:EDT
DTSTART:20260308T070000
END:DAYLIGHT
BEGIN:STANDARD
TZOFFSETFROM:-0400
TZOFFSETTO:-0500
TZNAME:EST
DTSTART:20261101T060000
END:STANDARD
END:VTIMEZONE
BEGIN:VEVENT
DTSTART;TZID=America/New_York:20250303T190000
DTEND;TZID=America/New_York:20250303T210000
DTSTAMP:20260425T234312
CREATED:20250121T211539Z
LAST-MODIFIED:20250204T212034Z
UID:43973-1741028400-1741035600@berksphotographic.org
SUMMARY:David Day “Creative Intentional Camera Movement” 
DESCRIPTION: March 3\, 2025 at 7:00 PM: David Day will give a presentation entitled “ICM in the Studio…..A Different Approach to Creating Abstract Images” \n  \nDavid Day resides in Flat Rock\, NC. His interest in fine art monochrome and infrared photography began in Connecticut during the 1990’s. During that time\, he utilized traditional photographic and darkroom techniques to produce New England themed images such as light houses and revolution era landmarks. \n  \nAfter moving to North Carolina in 2014\, David took several years off from exhibiting his work to focus on developing a new form of abstract photography. From a happy accident that occurred one afternoon in his studio\, he found that application of intentional camera movement techniques to simple still-life subjects such as string\, wire\, leaves\, weeds\, and tissue paper produced abstract images that were completely different from images produced by other ICM photographers. \n  \nHis early ICM experiments resulted in new techniques and images that have earned a variety of innovation and recognition awards including ‘Artist of the Year’ at the Northern Light Gallery in Albuquerque\, NM. His work has also been featured in several local and regional magazines as well as a number of on-line exhibitions and publications. \n  \nAt present\, David’s focus is on production of ICM images utilizing plastic bags\, tissue paper\, newsprint and glass objects as subject matter. He has produced a number of YouTube videos to teach his methods to others and coordinates an on-line collective of over 3\,500 members to further the development of abstract ICM-generated photography.   https://ddayicmart.com/ \nJoin us at the GoggleWorks\, or request a Zoom link to join online at https://store.berksphotographic.org/product/club-donation/ . For this meeting a donation (for non-members) is accepted but not required. \n 
URL:https://berksphotographic.org/event/david-day-creative-intentional-camera-movement/
CATEGORIES:Monday night meeting,ZOOM
END:VEVENT
END:VCALENDAR