BEGIN:VCALENDAR
VERSION:2.0
PRODID:-//Berks Photographic Society - ECPv6.15.20//NONSGML v1.0//EN
CALSCALE:GREGORIAN
METHOD:PUBLISH
X-WR-CALNAME:Berks Photographic Society
X-ORIGINAL-URL:https://berksphotographic.org
X-WR-CALDESC:Events for Berks Photographic Society
REFRESH-INTERVAL;VALUE=DURATION:PT1H
X-Robots-Tag:noindex
X-PUBLISHED-TTL:PT1H
BEGIN:VTIMEZONE
TZID:America/New_York
BEGIN:DAYLIGHT
TZOFFSETFROM:-0500
TZOFFSETTO:-0400
TZNAME:EDT
DTSTART:20210314T070000
END:DAYLIGHT
BEGIN:STANDARD
TZOFFSETFROM:-0400
TZOFFSETTO:-0500
TZNAME:EST
DTSTART:20211107T060000
END:STANDARD
BEGIN:DAYLIGHT
TZOFFSETFROM:-0500
TZOFFSETTO:-0400
TZNAME:EDT
DTSTART:20220313T070000
END:DAYLIGHT
BEGIN:STANDARD
TZOFFSETFROM:-0400
TZOFFSETTO:-0500
TZNAME:EST
DTSTART:20221106T060000
END:STANDARD
BEGIN:DAYLIGHT
TZOFFSETFROM:-0500
TZOFFSETTO:-0400
TZNAME:EDT
DTSTART:20230312T070000
END:DAYLIGHT
BEGIN:STANDARD
TZOFFSETFROM:-0400
TZOFFSETTO:-0500
TZNAME:EST
DTSTART:20231105T060000
END:STANDARD
END:VTIMEZONE
BEGIN:VEVENT
DTSTART;TZID=America/New_York:20220430T113000
DTEND;TZID=America/New_York:20220430T220000
DTSTAMP:20260425T092240
CREATED:20220416T180311Z
LAST-MODIFIED:20220418T014716Z
UID:42798-1651318200-1651356000@berksphotographic.org
SUMMARY:Sheep and Wool day at Springton Manor Farm &  Iron Pour & Forge Fest.
DESCRIPTION:Next up in our ongoing club outings will be on April 30th. We’re planning on a doubleheader event so there should be something for everyone. First in the morning we’ll be meeting for the Sheep and Wool day at Springton Manor Farm in Glenmoore\, PA. There will be plenty of photo ops of farm animals\, farm demonstrations\, and sheep shearing during the day. The new baby animals are in the barns for the kids to pet\, and as always the Springton goats will be posing for portraits. Admission is free and there is free remote parking with a short bus ride to the farm.  We plan to meet at 11:30 in front of the Manor House which is on your right as you enter the park.  You can get more information about the event schedule and directions to the farm at their website https://www.chesco.org/2307/Sheep-Wool . \nLater in the day we’ll be close to “home base” at the GoggleWorks for the annual Iron Pour & Forge Fest. The Forge Fest is from 2 to 7pm followed by the Iron Pour from 7 to 10pm.  Blacksmith demonstrations\, food and music will keep everyone busy during the day. We’ll plan to meet later in the day at 5:30 to prepare for the Iron Pour at 7:00 where there will be plenty of heat and sparks flying for us to photograph. More info on the festival can be found on the Google Works web site at this address.  https://goggleworks.org/event/spring-iron-pour-forge-fest/  \nSo if you like the soft and fuzzy stuff join us in the morning at Springton Manor then finish it off with the hard pounding anvil action of the Iron Pour. \nHope to see lots of new faces at our next outing.
URL:https://berksphotographic.org/event/sheep-and-wool-day-at-springton-manor-farm-in-glenmoore-pa-iron-pour-forge-fest-club-outing/
CATEGORIES:Photo Walk,Programs
ORGANIZER;CN="Bob Gross":MAILTO:bob.gross@berksphotographic.com
END:VEVENT
END:VCALENDAR