BEGIN:VCALENDAR
VERSION:2.0
PRODID:-//Berks Photographic Society - ECPv6.15.20//NONSGML v1.0//EN
CALSCALE:GREGORIAN
METHOD:PUBLISH
X-ORIGINAL-URL:https://berksphotographic.org
X-WR-CALDESC:Events for Berks Photographic Society
REFRESH-INTERVAL;VALUE=DURATION:PT1H
X-Robots-Tag:noindex
X-PUBLISHED-TTL:PT1H
BEGIN:VTIMEZONE
TZID:America/New_York
BEGIN:DAYLIGHT
TZOFFSETFROM:-0500
TZOFFSETTO:-0400
TZNAME:EDT
DTSTART:20190310T070000
END:DAYLIGHT
BEGIN:STANDARD
TZOFFSETFROM:-0400
TZOFFSETTO:-0500
TZNAME:EST
DTSTART:20191103T060000
END:STANDARD
BEGIN:DAYLIGHT
TZOFFSETFROM:-0500
TZOFFSETTO:-0400
TZNAME:EDT
DTSTART:20200308T070000
END:DAYLIGHT
BEGIN:STANDARD
TZOFFSETFROM:-0400
TZOFFSETTO:-0500
TZNAME:EST
DTSTART:20201101T060000
END:STANDARD
BEGIN:DAYLIGHT
TZOFFSETFROM:-0500
TZOFFSETTO:-0400
TZNAME:EDT
DTSTART:20210314T070000
END:DAYLIGHT
BEGIN:STANDARD
TZOFFSETFROM:-0400
TZOFFSETTO:-0500
TZNAME:EST
DTSTART:20211107T060000
END:STANDARD
BEGIN:DAYLIGHT
TZOFFSETFROM:-0500
TZOFFSETTO:-0400
TZNAME:EDT
DTSTART:20220313T070000
END:DAYLIGHT
BEGIN:STANDARD
TZOFFSETFROM:-0400
TZOFFSETTO:-0500
TZNAME:EST
DTSTART:20221106T060000
END:STANDARD
BEGIN:DAYLIGHT
TZOFFSETFROM:-0500
TZOFFSETTO:-0400
TZNAME:EDT
DTSTART:20230312T070000
END:DAYLIGHT
BEGIN:STANDARD
TZOFFSETFROM:-0400
TZOFFSETTO:-0500
TZNAME:EST
DTSTART:20231105T060000
END:STANDARD
END:VTIMEZONE
BEGIN:VEVENT
DTSTART;TZID=America/New_York:20220328T193000
DTEND;TZID=America/New_York:20220328T213000
DTSTAMP:20260425T074434
CREATED:20211215T003756Z
LAST-MODIFIED:20211215T003756Z
UID:42659-1648495800-1648503000@berksphotographic.org
SUMMARY:“Chasing the Light” with Mollie Isaacs as judge. Details to follow.
DESCRIPTION:March 28\, 2022: “Chasing the Light” with Mollie Isaacs as judge. Details to follow. \nMollie Isaacs is a professional photographer who specializes in Nature\, Wildlife\, Flowers & Abstracts. She is passionate about photography and loves to share that passion by teaching others. Early in her career\, she studied with Ansel Adams and Joyce Tenneson. She has won the Kodak Gallery Award 14 times\, considered by some to be the “Oscar” of photography. Her work is in the Permanent Collection of the International Photography Hall of Fame & has been exhibited at Epcot Center in Disney World & Grand Central Terminal in NYC. Isaacs runs Awake The Light Photo Workshops & Tours\, offers online webinars & personally leads photo workshops around the country and beyond. Read more about her and see her work on her WEBSITE. \n .
URL:https://berksphotographic.org/event/chasing-the-light-with-mollie-isaacs-as-judge-details-to-follow/
LOCATION:ZOOM
CATEGORIES:Monday night meeting,Photo Competitions,ZOOM
END:VEVENT
BEGIN:VEVENT
DTSTART;TZID=America/New_York:20211129T193000
DTEND;TZID=America/New_York:20211129T213000
DTSTAMP:20260425T074434
CREATED:20210629T200009Z
LAST-MODIFIED:20210629T200100Z
UID:41999-1638214200-1638221400@berksphotographic.org
SUMMARY:Best of the Year
DESCRIPTION:“Best of the Year” finale via Zoom with Henry Rowan of the PA Center for Photography judging & critiquing the competition winners from 2021 to determine the BPS submissions for the 2022 Michael Day International Competition \n  \nJoin Zoom Meeting \nhttps://us02web.zoom.us/j/82238665302?pwd=ZFB1dy80cTcyVXRuUVZpZWZYN01FUT09
URL:https://berksphotographic.org/event/best-of-the-year/
LOCATION:ZOOM
CATEGORIES:Monday night meeting,Photo Competitions,ZOOM
ORGANIZER;CN="Berks Photographic Society":MAILTO:info@berksphotographic.com
END:VEVENT
BEGIN:VEVENT
DTSTART;TZID=America/New_York:20211025T193000
DTEND;TZID=America/New_York:20211025T213000
DTSTAMP:20260425T074434
CREATED:20210629T194623Z
LAST-MODIFIED:20210629T194623Z
UID:41989-1635190200-1635197400@berksphotographic.org
SUMMARY:BPS Photo Competition
DESCRIPTION:Third BPS Competition “Anything Goes”  for both Nature & Pictorial categories\, allowing creativity to flow for everyone & to cover everyone’s favorite genre via Zoom. Submission deadline will be Sunday\, October 10 with a link to be announced. As noted above\, Richard Lewis will judge and critique this session as well as the June 2021 BPS Competition so you’ll definitely want to get his input on your images. \n  \nBerks Photographic is inviting you to a scheduled Zoom meeting. \nhttps://us02web.zoom.us/j/81212197112?pwd=dVVGSFA3NzMxWXJyaThTaVNhSWpFQT09 \n 
URL:https://berksphotographic.org/event/bps-photo-competition/
LOCATION:ZOOM
CATEGORIES:Monday night meeting,Photo Competitions,ZOOM
ORGANIZER;CN="Berks Photographic Society":MAILTO:info@berksphotographic.com
END:VEVENT
BEGIN:VEVENT
DTSTART;TZID=America/New_York:20210628T193000
DTEND;TZID=America/New_York:20210628T213000
DTSTAMP:20260425T074434
CREATED:20210629T200253Z
LAST-MODIFIED:20210629T200917Z
UID:42002-1624908600-1624915800@berksphotographic.org
SUMMARY:Second 2021 BPS Competition “Monochrome” in both the Nature & Pictorial categories via Zoom.
DESCRIPTION:Second 2021 BPS Competition “Monochrome” in both the Nature & Pictorial categories via Zoom.  Submission deadline has passed. \nPlease join us for this session to learn the results from Rich Lewis\, a skilled outside photographer who will judge and critique the images. We have engaged Richard Lewis for this and for October’s BPS competitions. He will run these competitions at a very high & exciting level with learning for all. Rich was very well received when he spoke at two 2020 BPS meetings related to judging & composition. He was then to have returned for a full day BPS symposium on judging that was canceled because of the pandemic. Rich has been a professional and fine art photographer since the 1970’s with a passion for landscapes\, especially the New Jersey Pine Barrens\, abandoned buildings and interesting people. He is an active photography blogger\, lecturer\, instructor and conducts workshops in the New Jersey Pine Barrens to help photographers find their unique creative voice. Rich will be publishing “Photographing the New Jersey Pine Barrens\, A Complete Photography Guide” shortly & is available for pre-order. \nTo learn more about Rich\, visit his website: RichardLewisPhotography.com
URL:https://berksphotographic.org/event/second-2021-bps-competition-monochrome-in-both-the-nature-pictorial-categories-via-zoom/
LOCATION:ZOOM
CATEGORIES:Monday night meeting,Photo Competitions,ZOOM
ORGANIZER;CN="Berks Photographic Society":MAILTO:info@berksphotographic.com
END:VEVENT
BEGIN:VEVENT
DTSTART;TZID=America/New_York:20201207T193000
DTEND;TZID=America/New_York:20201207T213000
DTSTAMP:20260425T074434
CREATED:20200405T174839Z
LAST-MODIFIED:20201118T205257Z
UID:4996-1607369400-1607376600@berksphotographic.org
SUMMARY:Best of the Year members’ competition  - judging & critiques by Henry Rowan of the PA Center for Photography
DESCRIPTION:BPS Photo Competition – “Best of the Year” judging & critiques by Henry Rowan of the PA Center for Photography from among the 91 award winning Class A & B images from the 2020 BPS photo competitions. Eligible winners of this event from Class A & B will be submitted to the International Michael Day Competition in January 2021. \n \nHenry is a national award-winning photographer and the Executive Director of the Pennsylvania Center for Photography (PCP) in Doylestown. In addition to being a working\, professional photographer\, Henry is a frequent lecturer and judge throughout the region and teaches a variety of workshops at the PCP. Henry’s work is frequently on display at galleries and shows and he has gained a following for his distinctive style of portraiture as well as his unique portrayal of manscapes\, nature\, and sports. \n  \nPhotographically\, Henry’s style is well defined but somewhat difficult to describe. He plays with movement\, light\, and color in unison to create images that are easy to identify as his. The driving theme of his work is his concept of Non-Existent Imagery: \n  \n“The images I create never existed and never will exist. They are combinations of angles\, colors\, light\, time\, lenses\, sensors\, and more\, which produce images that the human eye can’t see and the human mind can’t process in real life. Unlike the photojournalist\, I am not trying to capture a moment in time\, but rather I am hoping to create a feeling in space that conveys the essence of the subject.” \nWorking within this framework provides a great deal of artistic freedom and fosters a worldview that is both individualistic and offers unlimited creative opportunities. Many of his images are the result of hours of work and are part of his CameraGraph® series\, in which post-processing plays a major role to visually construct his “reality”. Regardless of the scene\, Henry strives to reveal the essence of his subjects in a manner that is as unique as the subjects themselves. \nYou may see his work at www.hrowanphotography.com/or contact him at henryrowan.pcp@gmail.com.
URL:https://berksphotographic.org/event/best-of-the-year-members-competition/
LOCATION:Berks Photographic Society\, 201 Washington St.\, Reading\, PA\, 19601\, United States
CATEGORIES:Monday night meeting,Photo Competitions
ORGANIZER;CN="Berks Photographic Society":MAILTO:info@berksphotographic.com
END:VEVENT
BEGIN:VEVENT
DTSTART;TZID=America/New_York:20201109T193000
DTEND;TZID=America/New_York:20201109T213000
DTSTAMP:20260425T074434
CREATED:20200405T174705Z
LAST-MODIFIED:20200612T192803Z
UID:4994-1604950200-1604957400@berksphotographic.org
SUMMARY:IMAGE COMPETITION  --  Pictorial - Creativity
DESCRIPTION:Pictorial – Creativity  —  \nLet you imagination roll \nMajor manipulation\, abstract\, painterly\, Orton effect\, infrared image \nCreativity within Pictorial: Let your juices flow with this anything goes event\, from composites of your own images (not software application stock images) to intentional camera movement\, selective focus\, nature’s filters\, or whatever. The only criteria is that the images must be primarily camera-based not graphic art.
URL:https://berksphotographic.org/event/image-competition-pictorial-creativity/
LOCATION:Berks Photographic Society\, 201 Washington St.\, Reading\, PA\, 19601\, United States
CATEGORIES:Monday night meeting,Photo Competitions
ORGANIZER;CN="Berks Photographic Society":MAILTO:info@berksphotographic.com
END:VEVENT
BEGIN:VEVENT
DTSTART;TZID=America/New_York:20201012T193000
DTEND;TZID=America/New_York:20201012T213000
DTSTAMP:20260425T074434
CREATED:20200405T174440Z
LAST-MODIFIED:20201001T211821Z
UID:4992-1602531000-1602538200@berksphotographic.org
SUMMARY:Club Members Meeting  -  on ZOOM
DESCRIPTION:An important members meeting will held on ZOOM.  We ask that members please attend on ZOOM as we will be discussing important topics about the future of the club and it’s plans for next year and beyond.  In addition\, we are soliciting interest from members who would like to assume officer and board member positions.  We have a number of potential openings for next year. \nIf interested\, contact any club officer/Board member. \nThere will be no contest this month. \nmessage from the president \nA Word from our President – Jeff Schaeffer\nI hope you are all remaining safe and well during these continued challenging times! \nAs I mentioned in the prior newsletter and at the last couple meetings\, the club really needs your help! \nDuring the September Board meeting\, we had a long discussion on the future of the club.  We are realizing that over the last 82 years since the club was established\, a lot has changed.  We feel we need to take a hard look at the club to determine what the club should look like moving forward.  Last September we had a great visioning sessions and heard a lot of ideas and dreams of what we all want to see the club become.  Great stuff!  However\, disappointingly\, when it came time for members to sign up to help in 2020\, the response was poor.  We also asked for members to volunteer to serve on the Board in 2020 and honestly I needed to beg to get enough members to fill our minimum requirements of 5 board members and 5 officers.  With the additional challenges we are all facing this year with the pandemic\, even some of the current board have needed to reduce their involvement and other board members have had to pick up additional responsibilities.  We are definitely in challenging times! \nThe board is currently identifying specific areas where help is needed.  We have some immediate needs to fill as well as responsibilities that need to transition prior to 2021.   A few of us do not plan to continue in our officer or board positions next year so the club needs to identify additional members to fill these spots. \nThe board is canceling the October competition on 10/12 so that we can use that night for an all member “Town Hall’ meeting to discuss the future of the club.  We want everyone’s input on what you want to see for our club moving forward\, what we should cut back on and what you are willing to contribute to help our club succeed in the future.  Please watch your email for additional information in the coming weeks and plan to attend the “Town Hall” meeting on October 12. \nIn the meantime\, take care\, stay safe\, stay healthy! \nJeff
URL:https://berksphotographic.org/event/image-competition-nature-forest/
LOCATION:Berks Photographic Society\, 201 Washington St.\, Reading\, PA\, 19601\, United States
CATEGORIES:Monday night meeting,Photo Competitions
ORGANIZER;CN="Berks Photographic Society":MAILTO:info@berksphotographic.com
END:VEVENT
BEGIN:VEVENT
DTSTART;TZID=America/New_York:20200914T193000
DTEND;TZID=America/New_York:20200914T213000
DTSTAMP:20260425T074434
CREATED:20200405T173040Z
LAST-MODIFIED:20200612T192400Z
UID:4980-1600111800-1600119000@berksphotographic.org
SUMMARY:Image Competition  --  Pictorial - Portraiture
DESCRIPTION:This too will be a special event as a Photographic Society of America (PSA) representative who has gone through extensive training will judge the submitted images & do a critique of the top 15 scores from each Class. The assigned topic is Portraits within the Pictorial category\, in addition to the Nature category. The assigned image can be a classic pose or an action portrait as long as the subject is isolated & dominant & not part of a big unrelated scene. These portrait images can be of humans or of animals within a man made setting. Just remember\, the image cannot be an animal in a natural environment as that would fall under the Nature category & no Nature images within Pictorial. So\, start working on this assignment & see you in the fall. \n 
URL:https://berksphotographic.org/event/image-competition-pictorial-portraiture/
LOCATION:Berks Photographic Society\, 201 Washington St.\, Reading\, PA\, 19601\, United States
CATEGORIES:Monday night meeting,Photo Competitions
ORGANIZER;CN="Berks Photographic Society":MAILTO:info@berksphotographic.com
END:VEVENT
BEGIN:VEVENT
DTSTART;TZID=America/New_York:20200608T193000
DTEND;TZID=America/New_York:20200608T213000
DTSTAMP:20260425T074434
CREATED:20200520T003635Z
LAST-MODIFIED:20200603T004333Z
UID:5090-1591644600-1591651800@berksphotographic.org
SUMMARY:BPS Photo Competition with Lance Keimig of NPAN as the judge.
DESCRIPTION:  \nCompetition Committee Update\n\nBy Vince Pellegrini\nThe Club’s June Photo Competition will be very special. The submissions will be judged & critiqued by Lance Keimig of National Parks At Night (NPAN). This will be a live Zoom webinar beginning at 7:30 PM on Monday\, June 8\, 2020 – check the Member Center on the BPS website for the Zoom meeting details\, including a direct link to the meeting. We’ve gotten a significant number of entries so the session should be a lot of fun & quite educational. Hope to see everyone there. \nLance Keimig is a Hinesburg\, VT based photographer who is best known for night photography made at the intersection of the natural and built environments. He is the author of two books\, including Night Photography- Finding Your Way In The Dark which has been translated into 7 languages. Keimig is a partner in National Parks at Night\, an organization dedicated to promoting and preserving our national parks through photographic education. nationalparksatnight.com \nHe has taught night photography for the past twenty years at the New England School of Photography\, The Photographic Resource Center at Boston University\, The Houston Center for Photography\, Maine Media Workshops\, the Rocky Mountain School of Photography\, Atlas Obscura\, and leads independent workshops across the country\, and international photo tours around the world. \n  \n  \n  \n 
URL:https://berksphotographic.org/event/bps-photo-competition-with-lance-keimig-of-npan-as-the-judge/
LOCATION:ZOOM
CATEGORIES:Monday night meeting,Photo Competitions,ZOOM
ORGANIZER;CN="Berks Photographic Society":MAILTO:info@berksphotographic.com
END:VEVENT
BEGIN:VEVENT
DTSTART;TZID=America/New_York:20200511T193000
DTEND;TZID=America/New_York:20200511T213000
DTSTAMP:20260425T074434
CREATED:20200405T171228Z
LAST-MODIFIED:20200405T172811Z
UID:4970-1589225400-1589232600@berksphotographic.org
SUMMARY:IMAGE COMPETITION   --  TO BE HELD ON-LINE  --  Pictorial - B&W
DESCRIPTION:Pictorial – B&W  —  Old fashion B&W image\, not monochrome or selective toning \n  \nimage competition will still be held online with 3 judges. This completion\, results & critiques will be taped & a link to the entire event will be published in the BPS Newsletter for the members to view. \n  \nSEE NEWSLETTER FOR FURTHER INFORMATION
URL:https://berksphotographic.org/event/image-competition-to-be-held-on-line/
LOCATION:Berks Photographic Society\, 201 Washington St.\, Reading\, PA\, 19601\, United States
CATEGORIES:Monday night meeting,Photo Competitions
ORGANIZER;CN="Berks Photographic Society":MAILTO:info@berksphotographic.com
END:VEVENT
BEGIN:VEVENT
DTSTART;TZID=America/New_York:20200309T193000
DTEND;TZID=America/New_York:20200309T213000
DTSTAMP:20260425T074434
CREATED:20200205T143921Z
LAST-MODIFIED:20200205T143924Z
UID:4507-1583782200-1583789400@berksphotographic.org
SUMMARY:Digital Photo Competition
DESCRIPTION:
URL:https://berksphotographic.org/event/digital-photo-competition/
LOCATION:Berks Photographic Society\, 201 Washington St.\, Reading\, PA\, 19601\, United States
CATEGORIES:Photo Competitions
END:VEVENT
END:VCALENDAR