BEGIN:VCALENDAR
VERSION:2.0
PRODID:-//Berks Photographic Society - ECPv6.15.20//NONSGML v1.0//EN
CALSCALE:GREGORIAN
METHOD:PUBLISH
X-ORIGINAL-URL:https://berksphotographic.org
X-WR-CALDESC:Events for Berks Photographic Society
REFRESH-INTERVAL;VALUE=DURATION:PT1H
X-Robots-Tag:noindex
X-PUBLISHED-TTL:PT1H
BEGIN:VTIMEZONE
TZID:America/New_York
BEGIN:DAYLIGHT
TZOFFSETFROM:-0500
TZOFFSETTO:-0400
TZNAME:EDT
DTSTART:20190310T070000
END:DAYLIGHT
BEGIN:STANDARD
TZOFFSETFROM:-0400
TZOFFSETTO:-0500
TZNAME:EST
DTSTART:20191103T060000
END:STANDARD
BEGIN:DAYLIGHT
TZOFFSETFROM:-0500
TZOFFSETTO:-0400
TZNAME:EDT
DTSTART:20200308T070000
END:DAYLIGHT
BEGIN:STANDARD
TZOFFSETFROM:-0400
TZOFFSETTO:-0500
TZNAME:EST
DTSTART:20201101T060000
END:STANDARD
BEGIN:DAYLIGHT
TZOFFSETFROM:-0500
TZOFFSETTO:-0400
TZNAME:EDT
DTSTART:20210314T070000
END:DAYLIGHT
BEGIN:STANDARD
TZOFFSETFROM:-0400
TZOFFSETTO:-0500
TZNAME:EST
DTSTART:20211107T060000
END:STANDARD
END:VTIMEZONE
BEGIN:VEVENT
DTSTART;TZID=America/New_York:20200629T193000
DTEND;TZID=America/New_York:20200629T213000
DTSTAMP:20260425T225929
CREATED:20200602T210639Z
LAST-MODIFIED:20200602T210639Z
UID:5120-1593459000-1593466200@berksphotographic.org
SUMMARY:High Dynamic Range Photography  -  on ZOOM  -  with Frank Plucinsky
DESCRIPTION:“High Dynamic Range Photography is a powerful photographic tool that produces images that more closely resemble what your eye sees or images that can be surrealistic which some consider artistic. After examining scenes that beg for HDR application we will discuss the technique for capturing photos suitable for processing by HDR software. We will then review some HDR software programs. There is something here for every photographer.” \n 
URL:https://berksphotographic.org/event/high-dynamic-range-photography-on-zoom-with-frank-plucinsky/
LOCATION:ZOOM
CATEGORIES:Monday night meeting,ZOOM
ORGANIZER;CN="Berks Photographic Society":MAILTO:info@berksphotographic.com
END:VEVENT
BEGIN:VEVENT
DTSTART;TZID=America/New_York:20200622T193000
DTEND;TZID=America/New_York:20200622T213000
DTSTAMP:20260425T225929
CREATED:20200520T003248Z
LAST-MODIFIED:20200520T003248Z
UID:5088-1592854200-1592861400@berksphotographic.org
SUMMARY:The Use of Social Media in Photography  -  with  Gabrielle Allen
DESCRIPTION:Gabrielle will share how photographers can effectively use social media\, specifically Instagram\, to share their work. She will cover both the technical side and the social side of Instagram. And you will learn how to use social media like a digital native. \n 
URL:https://berksphotographic.org/event/the-use-of-social-media-in-photography-with-gabrielle-allen/
LOCATION:ZOOM
CATEGORIES:Monday night meeting,ZOOM
ORGANIZER;CN="Berks Photographic Society":MAILTO:info@berksphotographic.com
END:VEVENT
BEGIN:VEVENT
DTSTART;TZID=America/New_York:20200615T193000
DTEND;TZID=America/New_York:20200615T220000
DTSTAMP:20260425T225929
CREATED:20200520T002324Z
LAST-MODIFIED:20200614T202450Z
UID:5083-1592249400-1592258400@berksphotographic.org
SUMMARY:Six Months Ago I Was 20 Years Old  -  with Joe DiMaggio  via Zoom
DESCRIPTION:Joe DiMaggio is an internationally known photographer who’s been making award-winning photographs for over four decades. His passion for boxing – a love/hate relationship has led him to direct a feature documentary titled “IN THIS CORNER\,” which is still a “work in progress.” He’s recently completed “BORN WITH IT” a documentary on late Bluesman Eddie Kirkland and did a documentary for Discovery Channel’s Shark Week\, called the “Last Shark Hunter.” \n  \nSPORTS ILLUSTRATED selected one of DiMaggio’s photos as one of the third greatest photos\, in the last 100 years\, of the Indianapolis 500. DiMaggio lectures on photography and leads international photo workshops with partner JoAnne Kalish. DiMaggio has hosted numerous television shows on photography in various locales. One guest was actor\, William Shatner & was filmed in Israel\, and another was actress A.J. Langer. DiMaggio has a new book out titled\, “FILL THE FRAME\,” recalling his adventures from the Golden Age to the Digital Age of Photography.  Joe’s website is – http://www.dimaggio-kalish.com \n \n  \nlink for non-member registration and payment of $10.00 fee  https://www.pay.berkscamera.org/product/program-six-months-ago-i-was-20-years-old-with-joe-dimaggio/
URL:https://berksphotographic.org/event/six-months-ago-i-was-20-years-old-with-joe-dimaggio/
LOCATION:ZOOM
CATEGORIES:Monday night meeting,ZOOM
ORGANIZER;CN="Berks Photographic Society":MAILTO:info@berksphotographic.com
END:VEVENT
BEGIN:VEVENT
DTSTART;TZID=America/New_York:20200608T193000
DTEND;TZID=America/New_York:20200608T213000
DTSTAMP:20260425T225929
CREATED:20200520T003635Z
LAST-MODIFIED:20200603T004333Z
UID:5090-1591644600-1591651800@berksphotographic.org
SUMMARY:BPS Photo Competition with Lance Keimig of NPAN as the judge.
DESCRIPTION:  \nCompetition Committee Update\n\nBy Vince Pellegrini\nThe Club’s June Photo Competition will be very special. The submissions will be judged & critiqued by Lance Keimig of National Parks At Night (NPAN). This will be a live Zoom webinar beginning at 7:30 PM on Monday\, June 8\, 2020 – check the Member Center on the BPS website for the Zoom meeting details\, including a direct link to the meeting. We’ve gotten a significant number of entries so the session should be a lot of fun & quite educational. Hope to see everyone there. \nLance Keimig is a Hinesburg\, VT based photographer who is best known for night photography made at the intersection of the natural and built environments. He is the author of two books\, including Night Photography- Finding Your Way In The Dark which has been translated into 7 languages. Keimig is a partner in National Parks at Night\, an organization dedicated to promoting and preserving our national parks through photographic education. nationalparksatnight.com \nHe has taught night photography for the past twenty years at the New England School of Photography\, The Photographic Resource Center at Boston University\, The Houston Center for Photography\, Maine Media Workshops\, the Rocky Mountain School of Photography\, Atlas Obscura\, and leads independent workshops across the country\, and international photo tours around the world. \n  \n  \n  \n 
URL:https://berksphotographic.org/event/bps-photo-competition-with-lance-keimig-of-npan-as-the-judge/
LOCATION:ZOOM
CATEGORIES:Monday night meeting,Photo Competitions,ZOOM
ORGANIZER;CN="Berks Photographic Society":MAILTO:info@berksphotographic.com
END:VEVENT
BEGIN:VEVENT
DTSTART;TZID=America/New_York:20200601T193000
DTEND;TZID=America/New_York:20200601T213000
DTSTAMP:20260425T225929
CREATED:20200405T165239Z
LAST-MODIFIED:20200405T171927Z
UID:4960-1591039800-1591047000@berksphotographic.org
SUMMARY:The Early History of The Berks Community Hiking Club  --  Ivan Bub
DESCRIPTION:The Berks Community Hiking Club was founded 1921. This presentation focuses predominantly on the early years of the hiking club with an emphasis on the photographs taken from the1920s \n  \nBio: Ivan Bub\, family physician\, who enjoys combining his love for photography with the outdoors. \n 
URL:https://berksphotographic.org/event/the-early-history-of-the-berks-community-hiking-club-ivan-bub/
LOCATION:Berks Photographic Society\, 201 Washington St.\, Reading\, PA\, 19601\, United States
CATEGORIES:Monday night meeting
ORGANIZER;CN="Berks Photographic Society":MAILTO:info@berksphotographic.com
END:VEVENT
BEGIN:VEVENT
DTSTART;TZID=America/New_York:20200525T193000
DTEND;TZID=America/New_York:20200525T213000
DTSTAMP:20260425T225929
CREATED:20200405T173205Z
LAST-MODIFIED:20200405T173205Z
UID:4982-1590435000-1590442200@berksphotographic.org
SUMMARY:NO MEETING  --  MEMORIAL DAY
DESCRIPTION:NO MEETING
URL:https://berksphotographic.org/event/no-meeting-memorial-day/
LOCATION:PA
CATEGORIES:Monday night meeting
END:VEVENT
BEGIN:VEVENT
DTSTART;TZID=America/New_York:20200518T193000
DTEND;TZID=America/New_York:20200518T213000
DTSTAMP:20260425T225929
CREATED:20200405T170156Z
LAST-MODIFIED:20200405T172244Z
UID:4965-1589830200-1589837400@berksphotographic.org
SUMMARY:Winter Wildlife of Japan with Marc Lombardi  --  members only  --  Live on Zoom
DESCRIPTION:MEMBERS ONLY\, LIVE ON ZOOM.  SEE NEWSLETTER FOR DETAILS!!!!! \n  \n  \n“This presentation will start with street shooting opportunities in Tokyo\, from the world’s busiest intersection in Shibuya to Senso-Ji Temple and other sights around the city.  Then on to Nagano for snow monkeys\, and the north island of Hokkaido for red-crowned cranes\, whooper swans\, foxes\, eagles and owls. In addition to many photos\, Marc will share the cultural and shooting experience along with video clips from Osaka TV as their crew followed the tour and documented the journey of “foreigners braving harsh conditions to photograph wildlife”. \nPromo photos attached to this email. \nMarc’s website link: https://marclombardi.zenfolio.com/f441680480
URL:https://berksphotographic.org/event/winter-wildlife-of-japan-with-marc-lombardi-members-only-on-zoom/
LOCATION:Berks Photographic Society\, 201 Washington St.\, Reading\, PA\, 19601\, United States
CATEGORIES:Monday night meeting
ORGANIZER;CN="Berks Photographic Society":MAILTO:info@berksphotographic.com
END:VEVENT
BEGIN:VEVENT
DTSTART;TZID=America/New_York:20200511T193000
DTEND;TZID=America/New_York:20200511T213000
DTSTAMP:20260425T225929
CREATED:20200405T171228Z
LAST-MODIFIED:20200405T172811Z
UID:4970-1589225400-1589232600@berksphotographic.org
SUMMARY:IMAGE COMPETITION   --  TO BE HELD ON-LINE  --  Pictorial - B&W
DESCRIPTION:Pictorial – B&W  —  Old fashion B&W image\, not monochrome or selective toning \n  \nimage competition will still be held online with 3 judges. This completion\, results & critiques will be taped & a link to the entire event will be published in the BPS Newsletter for the members to view. \n  \nSEE NEWSLETTER FOR FURTHER INFORMATION
URL:https://berksphotographic.org/event/image-competition-to-be-held-on-line/
LOCATION:Berks Photographic Society\, 201 Washington St.\, Reading\, PA\, 19601\, United States
CATEGORIES:Monday night meeting,Photo Competitions
ORGANIZER;CN="Berks Photographic Society":MAILTO:info@berksphotographic.com
END:VEVENT
BEGIN:VEVENT
DTSTART;TZID=America/New_York:20200504T080000
DTEND;TZID=America/New_York:20200504T170000
DTSTAMP:20260425T225929
CREATED:20200405T174150Z
LAST-MODIFIED:20200405T174150Z
UID:4990-1588579200-1588611600@berksphotographic.org
SUMMARY:--  CANCELLED  --  CANCELLED  --  CANCELLED  --
DESCRIPTION:— CANCELLED — CANCELLED — CANCELLED —
URL:https://berksphotographic.org/event/cancelled-cancelled-cancelled-4/
LOCATION:PA
CATEGORIES:Monday night meeting
END:VEVENT
BEGIN:VEVENT
DTSTART;TZID=America/New_York:20200427T080000
DTEND;TZID=America/New_York:20200427T170000
DTSTAMP:20260425T225929
CREATED:20200405T174052Z
LAST-MODIFIED:20200405T174052Z
UID:4988-1587974400-1588006800@berksphotographic.org
SUMMARY:--  CANCELLED  --  CANCELLED  --  CANCELLED  --
DESCRIPTION:— CANCELLED — CANCELLED — CANCELLED —
URL:https://berksphotographic.org/event/cancelled-cancelled-cancelled-3/
LOCATION:PA
CATEGORIES:Monday night meeting
END:VEVENT
BEGIN:VEVENT
DTSTART;TZID=America/New_York:20200420T193000
DTEND;TZID=America/New_York:20200420T213000
DTSTAMP:20260425T225929
CREATED:20200405T170904Z
LAST-MODIFIED:20200416T155900Z
UID:4967-1587411000-1587418200@berksphotographic.org
SUMMARY:"Black & White Digital Photography"  --  Les Picker  --  MEMBERS ONLY  --  LIVE ON ZOOM
DESCRIPTION:MEMBERS ONLY — LIVE ON ZOOM  SEE DETAILS IN NEWSLETTER \n  \nImmerse yourself in the world of black and white photography. What makes a great black and white photograph? In this presentation\, Les will take a look at some styles of the masters past and current\, and give you tips on looking at the world a little differently when you’re out with your camera. Les believes that black and white photography is the most difficult of all. Stripped of the distractions of color\, a black and white image must have drama\, emotion\, texture\, or wonderful tonality to be effective. He feels there is nothing equal to the visual and sensual pleasure of a classic black and white fine art print. Les’ presentation will be topped off with tips for aspiring B&W photographers. \nLes has photographed for National Geographic Society publications and many other consumer and corporate magazines and newspapers. He has had more than 600 published articles in major national publications. He was a monthly columnist and features contributor to Oceans Magazine and a weekly columnist\, Op-Ed contributor and features travel writer and photographer for The Baltimore Sun. Les shoots the Fujifilm medium format GFX systems.\nTwo characteristics shape Les’ photography: passion and inquisitiveness. Since an early age\, Les has been interested in the natural world and in other cultures. He has a doctorate in environmental affairs (winter ecology)\, which he believes helps inform his landscape and wildlife photography. His interest in other cultures draws him frequently to exotic locales.\nLes has cruised on a nuclear attack submarine deep in the Pacific Ocean and has climbed the highest peak in the Pyrenes. He has withstood -50F in the Arctic and tolerated 120F living with a Bedouin tribe in the Eastern desert of Egypt. He was nearly bitten by a sea lion in the Galapagos (never stand between a mother and her pup!) and was chased by a 16-foot alligator in South Africa (they are faster than you think!). \nLes was named Best Travel Photographer for the prestigious Canada Northern Lights Award. He is a keynote speaker\, lecturer and judge for photography competitions. Les also leads photography adventure tours throughout the world. \nLes is a Moab Fine Art Master Photographer and an X-Rite Coloratti. His print workshops are sponsored by Moab (a division of Legion Paper). \n“I feel blessed to be able to write and photograph for a living\,” Les says. “If my photographs help people better appreciate our natural world – and its fragility – then I feel I have accomplished a worthy life goal.” \n 
URL:https://berksphotographic.org/event/black-white-digital-photography-less-picker-members-only-live-on-zoom/
LOCATION:PA
CATEGORIES:Monday night meeting
END:VEVENT
BEGIN:VEVENT
DTSTART;TZID=America/New_York:20200413T080000
DTEND;TZID=America/New_York:20200413T170000
DTSTAMP:20260425T225929
CREATED:20200405T174003Z
LAST-MODIFIED:20200405T174003Z
UID:4986-1586764800-1586797200@berksphotographic.org
SUMMARY:--  CANCELLED  --  CANCELLED  --  CANCELLED  --
DESCRIPTION:— CANCELLED — CANCELLED — CANCELLED —
URL:https://berksphotographic.org/event/cancelled-cancelled-cancelled-2/
LOCATION:PA
CATEGORIES:Monday night meeting
END:VEVENT
BEGIN:VEVENT
DTSTART;TZID=America/New_York:20200406T080000
DTEND;TZID=America/New_York:20200406T170000
DTSTAMP:20260425T225929
CREATED:20200405T173722Z
LAST-MODIFIED:20200405T173722Z
UID:4984-1586160000-1586192400@berksphotographic.org
SUMMARY:--  CANCELLED  --  CANCELLED  --  CANCELLED
DESCRIPTION:—  CANCELLED  —
URL:https://berksphotographic.org/event/cancelled-cancelled-cancelled/
LOCATION:PA
CATEGORIES:Monday night meeting
END:VEVENT
END:VCALENDAR