BEGIN:VCALENDAR
VERSION:2.0
PRODID:-//Berks Photographic Society - ECPv6.15.20//NONSGML v1.0//EN
CALSCALE:GREGORIAN
METHOD:PUBLISH
X-ORIGINAL-URL:https://berksphotographic.org
X-WR-CALDESC:Events for Berks Photographic Society
REFRESH-INTERVAL;VALUE=DURATION:PT1H
X-Robots-Tag:noindex
X-PUBLISHED-TTL:PT1H
BEGIN:VTIMEZONE
TZID:America/New_York
BEGIN:DAYLIGHT
TZOFFSETFROM:-0500
TZOFFSETTO:-0400
TZNAME:EDT
DTSTART:20240310T070000
END:DAYLIGHT
BEGIN:STANDARD
TZOFFSETFROM:-0400
TZOFFSETTO:-0500
TZNAME:EST
DTSTART:20241103T060000
END:STANDARD
BEGIN:DAYLIGHT
TZOFFSETFROM:-0500
TZOFFSETTO:-0400
TZNAME:EDT
DTSTART:20250309T070000
END:DAYLIGHT
BEGIN:STANDARD
TZOFFSETFROM:-0400
TZOFFSETTO:-0500
TZNAME:EST
DTSTART:20251102T060000
END:STANDARD
BEGIN:DAYLIGHT
TZOFFSETFROM:-0500
TZOFFSETTO:-0400
TZNAME:EDT
DTSTART:20260308T070000
END:DAYLIGHT
BEGIN:STANDARD
TZOFFSETFROM:-0400
TZOFFSETTO:-0500
TZNAME:EST
DTSTART:20261101T060000
END:STANDARD
END:VTIMEZONE
BEGIN:VEVENT
DTSTART;TZID=America/New_York:20251020T190000
DTEND;TZID=America/New_York:20251020T210000
DTSTAMP:20260425T124514
CREATED:20250121T213423Z
LAST-MODIFIED:20250803T185613Z
UID:43997-1760986800-1760994000@berksphotographic.org
SUMMARY:“How AI is changing Photography!” by Bert Sirkin
DESCRIPTION:October 20\, 2025 at 7:00 PM: “How AI is changing Photography!” by Bert Sirkin \n  \nBert Sirkin describes his presentation this way\, “Photography is undergoing a paradigm shift. AI changes everything – from camera capabilities to editing to generative AI. The future of photography as an artform is open to those who learn to use all the tools available to them. Learn how AI can help you increase your photographic creative potential.  \n  \nI will explain\, in simple terms\, how AI works\, what you can do with AI and how you can combine AI with the tools and skills we already have as photographers. \n  \nI will present perspectives you may not have yet have thought of. I will show you some of the more useful AI options available to photographers today. Gain valuable insights into the diverse applications of AI\, including the groundbreaking AI features in Photoshop\, alongside a range of other cutting-edge AI tools. We’ll look at how these tools can be combined to open up a whole new world of creativity.” \n  \nBert Sirkin apprenticed at with a Professional Photographer in Boston when he was 18 years old and has done part-time Professional Photography since he was 19 years old. He’s taught various photography topics since 1970 and has spent 10 years teaching workshops in Everglades NP\, Joshua Tree NP & Monument Valley Tribal park. He taught various computer programming languages at Capital Community Technical college in Hartford\, CT for 20 years. He currently teaches online photography workshops and frequently speaks to photography groups. \n  \nThis will be a paid event for non-members with a $10 donation. For non-members interested in attending\, please register by making your $10 donation at https://store.berksphotographic.org/product/club-donation/. \n 
URL:https://berksphotographic.org/event/guy-edwardes-landscapes-of-the-british-isles/
CATEGORIES:Monday night meeting,ZOOM
END:VEVENT
END:VCALENDAR