BEGIN:VCALENDAR
VERSION:2.0
PRODID:-//Berks Photographic Society - ECPv6.15.20//NONSGML v1.0//EN
CALSCALE:GREGORIAN
METHOD:PUBLISH
X-WR-CALNAME:Berks Photographic Society
X-ORIGINAL-URL:https://berksphotographic.org
X-WR-CALDESC:Events for Berks Photographic Society
REFRESH-INTERVAL;VALUE=DURATION:PT1H
X-Robots-Tag:noindex
X-PUBLISHED-TTL:PT1H
BEGIN:VTIMEZONE
TZID:America/New_York
BEGIN:DAYLIGHT
TZOFFSETFROM:-0500
TZOFFSETTO:-0400
TZNAME:EDT
DTSTART:20240310T070000
END:DAYLIGHT
BEGIN:STANDARD
TZOFFSETFROM:-0400
TZOFFSETTO:-0500
TZNAME:EST
DTSTART:20241103T060000
END:STANDARD
BEGIN:DAYLIGHT
TZOFFSETFROM:-0500
TZOFFSETTO:-0400
TZNAME:EDT
DTSTART:20250309T070000
END:DAYLIGHT
BEGIN:STANDARD
TZOFFSETFROM:-0400
TZOFFSETTO:-0500
TZNAME:EST
DTSTART:20251102T060000
END:STANDARD
BEGIN:DAYLIGHT
TZOFFSETFROM:-0500
TZOFFSETTO:-0400
TZNAME:EDT
DTSTART:20260308T070000
END:DAYLIGHT
BEGIN:STANDARD
TZOFFSETFROM:-0400
TZOFFSETTO:-0500
TZNAME:EST
DTSTART:20261101T060000
END:STANDARD
END:VTIMEZONE
BEGIN:VEVENT
DTSTART;TZID=America/New_York:20250407T190000
DTEND;TZID=America/New_York:20250407T210000
DTSTAMP:20260425T235341
CREATED:20250121T211811Z
LAST-MODIFIED:20250204T213816Z
UID:43977-1744052400-1744059600@berksphotographic.org
SUMMARY:Valerie Hoffman “Garden Photography”
DESCRIPTION:– April 7\, 2025 at 7:00 PM: Valerie Hoffman will share her insights on “Garden Photography”\nValerie Hoffman loves photography AND gardens! This photography educator who has led many Photo Treks and workshops is also a member of BPS. Valerie cannot remember a time in her life when photography was not a passion. From a very young age\, she began taking pictures and learning the fundamentals of photography.  This passion led her to pursue a degree in photography\, as well as embark on a career in the photographic retail world. For more than 25 years I worked in the industry\, selling photographic equipment and helping customers with their photographic needs. In 2009\, she began teaching private photography lessons\, then group classes and workshops.She loves sharing her 40+ years of photographic knowledge and helping inspire people to take their photography skills to deeper and more creative levels. \nValerie describes her presentation this way\, “Spring is here (in April\, of course:)\, and for those who love to capture the beauty of flowers in bloom\, there’s no better time than now to head out to a local garden and create some beautiful images. And the best part is that here in PA\, we have a ton of great places to visit. They don’t call the Greater Philadelphia area America’s Garden Capital for nothing! \nEven for those who are less inclined to photograph flowers\, their variety and bold colors provide a great opportunity for some creative images. \nJoin me as I take you on a journey through some of my favorite local gardens. We will discuss the best times to visit for different blooms\, best conditions\, along with tips on gear\, composition\, camera settings and more!”
URL:https://berksphotographic.org/event/valerie-hoffman-garden-photography/
CATEGORIES:Monday night meeting,ZOOM
END:VEVENT
END:VCALENDAR