BEGIN:VCALENDAR
VERSION:2.0
PRODID:-//Berks Photographic Society - ECPv6.15.20//NONSGML v1.0//EN
CALSCALE:GREGORIAN
METHOD:PUBLISH
X-ORIGINAL-URL:https://berksphotographic.org
X-WR-CALDESC:Events for Berks Photographic Society
REFRESH-INTERVAL;VALUE=DURATION:PT1H
X-Robots-Tag:noindex
X-PUBLISHED-TTL:PT1H
BEGIN:VTIMEZONE
TZID:America/New_York
BEGIN:DAYLIGHT
TZOFFSETFROM:-0500
TZOFFSETTO:-0400
TZNAME:EDT
DTSTART:20250309T070000
END:DAYLIGHT
BEGIN:STANDARD
TZOFFSETFROM:-0400
TZOFFSETTO:-0500
TZNAME:EST
DTSTART:20251102T060000
END:STANDARD
BEGIN:DAYLIGHT
TZOFFSETFROM:-0500
TZOFFSETTO:-0400
TZNAME:EDT
DTSTART:20260308T070000
END:DAYLIGHT
BEGIN:STANDARD
TZOFFSETFROM:-0400
TZOFFSETTO:-0500
TZNAME:EST
DTSTART:20261101T060000
END:STANDARD
BEGIN:DAYLIGHT
TZOFFSETFROM:-0500
TZOFFSETTO:-0400
TZNAME:EDT
DTSTART:20270314T070000
END:DAYLIGHT
BEGIN:STANDARD
TZOFFSETFROM:-0400
TZOFFSETTO:-0500
TZNAME:EST
DTSTART:20271107T060000
END:STANDARD
END:VTIMEZONE
BEGIN:VEVENT
DTSTART;TZID=America/New_York:20260202T190000
DTEND;TZID=America/New_York:20260202T210000
DTSTAMP:20260422T234931
CREATED:20251212T040949Z
LAST-MODIFIED:20251212T040949Z
UID:44181-1770058800-1770066000@berksphotographic.org
SUMMARY:February 2\, 2026 at 7:00 PM: Betsy Wilson will share “At-Home Photo Creativity - Oodles of Ideas”
DESCRIPTION:February 2\, 2026 at 7:00 PM: Betsy Wilson will share “At-Home Photo Creativity – Oodles of Ideas” \nLimited to photographing around your home? No worries! This presentation opens up a whole new world of fun and creative photo projects that you can do in the comfort of your own home. From fun kitchen techniques such as making abstracts with oil and water\, or throwing fruit into a fishbowl\, to photographing macro water droplet refractions\, there is no shortage of new ideas! Betsy’s husband Jim has worked with speedlights and multi-flash to create fascinating portraits\, and Betsy explores still life photography through her unique perspective\, introducing some new still life styles not shared before in this fast-paced inspirational presentation. \nBetsy Wilson began learning photography after retiring from a career as a newspaper publisher.  Her husband Jim gave her his hand-me-down camera and a lot of encouragement\, and he now says he created a monster.  Her passion for photography includes a wide variety of types including macro\, landscape and nature photography.   In addition to being honored as Photographer of the Year Award at the Chester County Camera Club\, she has received numerous recognitions for her artistic photography including a Silver Medal awarded at the Wilmington International Exhibition of Photography\, and First Place Award in Photography at the Philadelphia Flower Show.  Betsy is an active member of the Chester County Camera Club\, and has given numerous presentations for camera clubs in many states.
URL:https://berksphotographic.org/event/february-2-2026-at-700-pm-betsy-wilson-will-share-at-home-photo-creativity-oodles-of-ideas/
END:VEVENT
END:VCALENDAR