BEGIN:VCALENDAR
VERSION:2.0
PRODID:-//Berks Photographic Society - ECPv6.15.20//NONSGML v1.0//EN
CALSCALE:GREGORIAN
METHOD:PUBLISH
X-ORIGINAL-URL:https://berksphotographic.org
X-WR-CALDESC:Events for Berks Photographic Society
REFRESH-INTERVAL;VALUE=DURATION:PT1H
X-Robots-Tag:noindex
X-PUBLISHED-TTL:PT1H
BEGIN:VTIMEZONE
TZID:America/New_York
BEGIN:DAYLIGHT
TZOFFSETFROM:-0500
TZOFFSETTO:-0400
TZNAME:EDT
DTSTART:20240310T070000
END:DAYLIGHT
BEGIN:STANDARD
TZOFFSETFROM:-0400
TZOFFSETTO:-0500
TZNAME:EST
DTSTART:20241103T060000
END:STANDARD
BEGIN:DAYLIGHT
TZOFFSETFROM:-0500
TZOFFSETTO:-0400
TZNAME:EDT
DTSTART:20250309T070000
END:DAYLIGHT
BEGIN:STANDARD
TZOFFSETFROM:-0400
TZOFFSETTO:-0500
TZNAME:EST
DTSTART:20251102T060000
END:STANDARD
BEGIN:DAYLIGHT
TZOFFSETFROM:-0500
TZOFFSETTO:-0400
TZNAME:EDT
DTSTART:20260308T070000
END:DAYLIGHT
BEGIN:STANDARD
TZOFFSETFROM:-0400
TZOFFSETTO:-0500
TZNAME:EST
DTSTART:20261101T060000
END:STANDARD
END:VTIMEZONE
BEGIN:VEVENT
DTSTART;TZID=America/New_York:20251117T190000
DTEND;TZID=America/New_York:20251117T210000
DTSTAMP:20260423T052052
CREATED:20250121T213712Z
LAST-MODIFIED:20250803T190116Z
UID:44001-1763406000-1763413200@berksphotographic.org
SUMMARY:Ray Schneider “Visual Time Travel”
DESCRIPTION: November 17\, 2025 at 7:00 PM: Ray Schneider will present “Visual Time Travel:How to Take Your Viewers on a Trip”\n  \nExplore how to compose pictures that draw the viewer in and that conjure a story in the mind.  \nStorytelling is a popular genre in the visual arts\, but Ray Schneider will help participants do more than just tell stories with photographs. In addition to reviewing the core tenets of composition he will explore how composing pictures that are relatable\, that evoke emotions\, engage the viewer empathically and contain classic visual archetypes\, dramatically increases the likelihood that the picture will take the viewer on a trip through their consciousness\, past\, present and future. The stronger this connection can be the more interesting and memorable the photograph will be.  \nDuring this presentation Ray will share pictures from a variety of genres including landscape\, street photography and more. And he will offer ideas which come from the world of composition\, perception\, and cognitive psychology\, for creating more impactful pictures.   \nRay Schneider is a freelance photographer whose images span numerous genres including portrait\, street\, landscape\, garden\, animals\, and events. An avid traveler\, his images come from over 30 countries. He has published a book entitled What the Photographer Sees\, available on Amazon and recently received a Portfolio Merit Award from Black and White Magazine.  He teaches photography workshops and is also a speaker at camera clubs across the country. \nPrior to becoming a professional photographer\, Ray travelled the country as an operations management consultant. He is a recognized expert in process\, quality and operations improvement consulting\, with deep experience across a broad range of industries. \nFor Ray\, seeing like a photographer is to perceive well. It’s creating images that are more than pretty pictures — hopefully — and that trigger the viewer’s inner-voice\, that suggest a story\, that evolve in the consciousness as they’re viewed\, that invite a sense of curiosity\, that cause one to pause and maybe take a closer look. www.rayschneiderphotography.com\n\nThis will be a paid event for non-members with a $10 donation. For non-members interested in attending\, please register by making your $10 donation at https://store.berksphotographic.org/product/club-donation/.
URL:https://berksphotographic.org/event/ray-schneider-visual-time-travel/
CATEGORIES:Monday night meeting,ZOOM
END:VEVENT
END:VCALENDAR