BEGIN:VCALENDAR
VERSION:2.0
PRODID:-//Berks Photographic Society - ECPv6.15.20//NONSGML v1.0//EN
CALSCALE:GREGORIAN
METHOD:PUBLISH
X-ORIGINAL-URL:https://berksphotographic.org
X-WR-CALDESC:Events for Berks Photographic Society
REFRESH-INTERVAL;VALUE=DURATION:PT1H
X-Robots-Tag:noindex
X-PUBLISHED-TTL:PT1H
BEGIN:VTIMEZONE
TZID:America/New_York
BEGIN:DAYLIGHT
TZOFFSETFROM:-0500
TZOFFSETTO:-0400
TZNAME:EDT
DTSTART:20240310T070000
END:DAYLIGHT
BEGIN:STANDARD
TZOFFSETFROM:-0400
TZOFFSETTO:-0500
TZNAME:EST
DTSTART:20241103T060000
END:STANDARD
BEGIN:DAYLIGHT
TZOFFSETFROM:-0500
TZOFFSETTO:-0400
TZNAME:EDT
DTSTART:20250309T070000
END:DAYLIGHT
BEGIN:STANDARD
TZOFFSETFROM:-0400
TZOFFSETTO:-0500
TZNAME:EST
DTSTART:20251102T060000
END:STANDARD
BEGIN:DAYLIGHT
TZOFFSETFROM:-0500
TZOFFSETTO:-0400
TZNAME:EDT
DTSTART:20260308T070000
END:DAYLIGHT
BEGIN:STANDARD
TZOFFSETFROM:-0400
TZOFFSETTO:-0500
TZNAME:EST
DTSTART:20261101T060000
END:STANDARD
END:VTIMEZONE
BEGIN:VEVENT
DTSTART;TZID=America/New_York:20250519T190000
DTEND;TZID=America/New_York:20250519T210000
DTSTAMP:20260425T122003
CREATED:20250121T212232Z
LAST-MODIFIED:20250214T214916Z
UID:43983-1747681200-1747688400@berksphotographic.org
SUMMARY:Mike Moats “The Properly Equipped Macro Photographer”
DESCRIPTION:May 19\, 2025 at 7:00 PM: Mike Moats will present  “The Properly Equipped Macro Photographer” \nBeing a properly equipped macro photographer is not just about the equipment\, but also equipping yourself with the how-to knowledge of macro photography. Mike will cover the most important equipment for macro photography\, how to control depth of field\, composition\, and finding character in your subjects.  \nMike Moats is an international award-winning full time pro macro photographer from Michigan.  He is a Tamron Image Master\, Vanguard Pro\, and his articles and images have been published in many photo magazines for over 15 years.  He has a Macro Photo Club online with over 2\,800 members\, from 29 countries.  Mike teaches workshops and speaks at photo conferences throughout the US. \nhttps://www.mikemoats.com/ \nThis will be a paid event for non-members with a $10 donation. For non-members interested in attending\, please register by making your $10 donation at https://store.berksphotographic.org/product/club-donation/.
URL:https://berksphotographic.org/event/mike-moats-the-properly-equipped-macro-photographer/
CATEGORIES:Monday night meeting,ZOOM
END:VEVENT
END:VCALENDAR