BEGIN:VCALENDAR
VERSION:2.0
PRODID:-//Berks Photographic Society - ECPv6.15.20//NONSGML v1.0//EN
CALSCALE:GREGORIAN
METHOD:PUBLISH
X-ORIGINAL-URL:https://berksphotographic.org
X-WR-CALDESC:Events for Berks Photographic Society
REFRESH-INTERVAL;VALUE=DURATION:PT1H
X-Robots-Tag:noindex
X-PUBLISHED-TTL:PT1H
BEGIN:VTIMEZONE
TZID:America/New_York
BEGIN:DAYLIGHT
TZOFFSETFROM:-0500
TZOFFSETTO:-0400
TZNAME:EDT
DTSTART:20240310T070000
END:DAYLIGHT
BEGIN:STANDARD
TZOFFSETFROM:-0400
TZOFFSETTO:-0500
TZNAME:EST
DTSTART:20241103T060000
END:STANDARD
BEGIN:DAYLIGHT
TZOFFSETFROM:-0500
TZOFFSETTO:-0400
TZNAME:EDT
DTSTART:20250309T070000
END:DAYLIGHT
BEGIN:STANDARD
TZOFFSETFROM:-0400
TZOFFSETTO:-0500
TZNAME:EST
DTSTART:20251102T060000
END:STANDARD
BEGIN:DAYLIGHT
TZOFFSETFROM:-0500
TZOFFSETTO:-0400
TZNAME:EDT
DTSTART:20260308T070000
END:DAYLIGHT
BEGIN:STANDARD
TZOFFSETFROM:-0400
TZOFFSETTO:-0500
TZNAME:EST
DTSTART:20261101T060000
END:STANDARD
END:VTIMEZONE
BEGIN:VEVENT
DTSTART;TZID=America/New_York:20250222T100000
DTEND;TZID=America/New_York:20250222T170000
DTSTAMP:20260425T170700
CREATED:20250121T210818Z
LAST-MODIFIED:20250121T210818Z
UID:43967-1740218400-1740243600@berksphotographic.org
SUMMARY:February 22\, 2025 (SATURDAY) at 10:00 AM: A Double Header!  Outstanding UK nature photographer\, Joe Cornish\, and  a photo walk in Reading led by Vince Pellegrini\,
DESCRIPTION:– February 22\, 2025 (SATURDAY) at 10:00 AM: A Double Header! \nFirst\, Outstanding UK nature photographer\, Joe Cornish\,\nhttp://www.joecornishphotographer.com/ will share his insights on photographing “Nature” in a special Saturday morning presentation. Joe’s work will have you amazed by its beauty and majesty. Joe states on his website\, “…I am British\, grateful to live in a peaceful country that\, undeniably\, has wonderful landscape. This land has inspired artists\, poets\, composers and photographers for hundreds of years. The cycles of life and seasonal changes are a reminder of the amazing abundance and resilience of natural flora and wild creatures. The unpredictable weather provides an endless and enjoyable artistic challenge. While ecological damage continues (due to industry\, urban sprawl and intensive farming) many schemes have successfully protected species\, and habitats\, and hundreds of campaigning organisations work hard to improve our landscape and ensure access so that it can be enjoyed and experienced by all.” \nWatch Joe Cornish’s presentation in person on the big screen in Suite 326 at the GoggleWorks\, or join from home. This will be a paid event for non-members with a $10 donation. For non-members interested in attending\, please register by making your $10 donation at https://store.berksphotographic.org/product/club-donation/. \nSecondly\, this special Saturday presentation via Zoom at the GoggleWorks will be followed by a photo walk in Reading led by Vince Pellegrini\, even if it’s snowing! The plan is to wander a mapped route from the GoggleWorks to McGinty Antique & Classic Motorcars at 1041 Washington Street. Along the way\, we will visit the exteriors of a few beautiful churches\, an architecturally interesting indoor parking garage & some train tracks. The route will be 1 mile each way. This is a fabulous way to get to know other members and try something different with your camera. \nSo that there is an idea of who will be joining us on the walk\, please email your interest to Vince.Pellegrini@berksphotographic.com.
URL:https://berksphotographic.org/event/february-22-2025-saturday-at-1000-am-a-double-header-outstanding-uk-nature-photographer-joe-cornish-and-a-photo-walk-in-reading-led-by-vince-pellegrini/
CATEGORIES:Classes & Workshops,Photo Walk
END:VEVENT
END:VCALENDAR