BEGIN:VCALENDAR
VERSION:2.0
PRODID:-//Berks Photographic Society - ECPv6.15.20//NONSGML v1.0//EN
CALSCALE:GREGORIAN
METHOD:PUBLISH
X-ORIGINAL-URL:https://berksphotographic.org
X-WR-CALDESC:Events for Berks Photographic Society
REFRESH-INTERVAL;VALUE=DURATION:PT1H
X-Robots-Tag:noindex
X-PUBLISHED-TTL:PT1H
BEGIN:VTIMEZONE
TZID:America/New_York
BEGIN:DAYLIGHT
TZOFFSETFROM:-0500
TZOFFSETTO:-0400
TZNAME:EDT
DTSTART:20240310T070000
END:DAYLIGHT
BEGIN:STANDARD
TZOFFSETFROM:-0400
TZOFFSETTO:-0500
TZNAME:EST
DTSTART:20241103T060000
END:STANDARD
BEGIN:DAYLIGHT
TZOFFSETFROM:-0500
TZOFFSETTO:-0400
TZNAME:EDT
DTSTART:20250309T070000
END:DAYLIGHT
BEGIN:STANDARD
TZOFFSETFROM:-0400
TZOFFSETTO:-0500
TZNAME:EST
DTSTART:20251102T060000
END:STANDARD
BEGIN:DAYLIGHT
TZOFFSETFROM:-0500
TZOFFSETTO:-0400
TZNAME:EDT
DTSTART:20260308T070000
END:DAYLIGHT
BEGIN:STANDARD
TZOFFSETFROM:-0400
TZOFFSETTO:-0500
TZNAME:EST
DTSTART:20261101T060000
END:STANDARD
END:VTIMEZONE
BEGIN:VEVENT
DTSTART;TZID=America/New_York:20250217T190000
DTEND;TZID=America/New_York:20250217T210000
DTSTAMP:20260425T170649
CREATED:20250121T210442Z
LAST-MODIFIED:20250121T210442Z
UID:43965-1739818800-1739826000@berksphotographic.org
SUMMARY:Tim Peterman will give a presentation on “Portraiture”
DESCRIPTION:– February 17\, 2025 at 7:00 PM: Tim Peterman will give a presentation on “Portraiture” \nTim Peterman will be presenting a talk on photographing portraits\, demonstrating the use of a light meter to get the proper exposure\, the use of up to three lighting set ups\, and also use of a reflector fill. He may introduce some use of color gels. Tim will discuss camera settings and types of lights that he uses\, from small flash units to large studio units as well as the use of different flash modifiers. He will also demonstrate the use of different types of backgrounds and how to attach them to a background stand. \nTim has been an award winning photographer for the past 30 + years\, starting out part-time taking photographs for the North Penn YMCA and also working with a Wedding Photographer in Lansdale. Tim is a 1990 graduate of The New York Institute of Photography. Now retired from the corporate industry of photography where Tim photographed Portraits\, Sporting Events and Corporate Events\, High School Seniors\, Models and Concerts\, Tim still keeps up his photography skills by teaching\, and creating photography projects to keep his skills honed. Tim has now focused some of his time with Landscape and Wildlife photography. Tim makes his home in Telford\, Pa. with his wife Patti of 36 years. Tim has two children and has one grandson. Tim is the training co-organizer and active member of High End Imaging group in Allentown. He is a lifetime member\, and Hall of Fame member of the International Freelance Photographer Organization (IFPO)\, and is an American International News Service Correspondent Photographer and Picture Stock Worldwide Inc contributor. \nTim has photographed several Army Navy football games and has had five photographs published in a book called “Gettysburg 1863 Seething Hell”. \nCheck out Tim’s work at https://timpetermanphoto.com/ \nTim will be with us in person in Suite 326 at the GoggleWorks. You can also join from home via Zoom. This will be a paid event for non-members with a $10 donation. For non-members interested in attending\, please register by making your $10 donation at https://store.berksphotographic.org/product/club-donation/.
URL:https://berksphotographic.org/event/tim-peterman-will-give-a-presentation-on-portraiture/
CATEGORIES:Classes & Workshops,Monday night meeting,ZOOM
END:VEVENT
END:VCALENDAR