BEGIN:VCALENDAR
VERSION:2.0
PRODID:-//Berks Photographic Society - ECPv6.15.20//NONSGML v1.0//EN
CALSCALE:GREGORIAN
METHOD:PUBLISH
X-ORIGINAL-URL:https://berksphotographic.org
X-WR-CALDESC:Events for Berks Photographic Society
REFRESH-INTERVAL;VALUE=DURATION:PT1H
X-Robots-Tag:noindex
X-PUBLISHED-TTL:PT1H
BEGIN:VTIMEZONE
TZID:America/New_York
BEGIN:DAYLIGHT
TZOFFSETFROM:-0500
TZOFFSETTO:-0400
TZNAME:EDT
DTSTART:20230312T070000
END:DAYLIGHT
BEGIN:STANDARD
TZOFFSETFROM:-0400
TZOFFSETTO:-0500
TZNAME:EST
DTSTART:20231105T060000
END:STANDARD
BEGIN:DAYLIGHT
TZOFFSETFROM:-0500
TZOFFSETTO:-0400
TZNAME:EDT
DTSTART:20240310T070000
END:DAYLIGHT
BEGIN:STANDARD
TZOFFSETFROM:-0400
TZOFFSETTO:-0500
TZNAME:EST
DTSTART:20241103T060000
END:STANDARD
BEGIN:DAYLIGHT
TZOFFSETFROM:-0500
TZOFFSETTO:-0400
TZNAME:EDT
DTSTART:20250309T070000
END:DAYLIGHT
BEGIN:STANDARD
TZOFFSETFROM:-0400
TZOFFSETTO:-0500
TZNAME:EST
DTSTART:20251102T060000
END:STANDARD
END:VTIMEZONE
BEGIN:VEVENT
DTSTART;TZID=America/New_York:20241118T190000
DTEND;TZID=America/New_York:20241118T210000
DTSTAMP:20260425T221318
CREATED:20231212T232638Z
LAST-MODIFIED:20231213T002724Z
UID:43575-1731956400-1731963600@berksphotographic.org
SUMMARY:Jonathan Vaines of the UK will present a hybrid zoom session titled “Creative Motivation”
DESCRIPTION:This talk will be an artistic approach to photography\, stepping out of the mainstream. Along with individual images\, Jonathan will discuss the motivational benefits of working with Projects\, Sets & Groups of images. Most of his pictures are created using “in camera” techniques & therefore the focus of the evening will be about “Thinking Inside The Box”.  He will take us to a place far away from the reality of life into Visual Art\, creating work from simple everyday things around us. Jonathan hopes to inspire us\, give us that spark to go out & take a different picture. \nJonathan took his first photograph in 2012\, joined his local club to work out what to do & soon moved on. He has had many roles away from the camera in his short photographic life. Jonathan has been the Regional Organizer for the Royal Photographic Society (RPS) for five years & is the Judges’ Secretary for the East Anglian Federation (EAF) of Photographic Societies in Great Britain. He is also an A panel judge and a sponsored lecturer for Paper Spectrum. Jonathan tutors for the RPS and online photo clubs that operate predominantly in North America\, running processing method workshops most weeks. He is an affiliate of DxO Labs\, the software developer\, & Wex Photo Video for everything camera. He is always busy somewhere in the world of camera clubs & photography. \nJonathan’s image making started out as photographing anything. Now he uses the camera to create what he sees as wall art. Multiple exposures along with some sort of camera distortion appears in almost all of his work. He polishes the results in Photoshop & an image does not exist until it’s printed so he is helping keep the ink and paper industry alive. Jonathan finds enjoyment from engaging with every image. He works with thoughts\, concepts & projects. For him\, it’s not about capturing the moment but it’s about visualization & being able to deliver that in print. \n \n  \n\nExplore Jonathan’s WEBSITE to explore his world. \nThis will be a paid event for non-members with a $10 donation. For non-members interested in attending\, please register by making your $10 donation at https://store.berksphotographic.org/product/club-donation/.
URL:https://berksphotographic.org/event/jonathan-vaines-of-the-uk-will-present-a-hybrid-zoom-session-titled-creative-motivation/
LOCATION:Hybrid
CATEGORIES:Hybrid Zoom Meeting,Monday night meeting
ORGANIZER;CN="Berks Photographic Society":MAILTO:info@berksphotographic.com
END:VEVENT
END:VCALENDAR