BEGIN:VCALENDAR
VERSION:2.0
PRODID:-//Berks Photographic Society - ECPv6.15.20//NONSGML v1.0//EN
CALSCALE:GREGORIAN
METHOD:PUBLISH
X-WR-CALNAME:Berks Photographic Society
X-ORIGINAL-URL:https://berksphotographic.org
X-WR-CALDESC:Events for Berks Photographic Society
REFRESH-INTERVAL;VALUE=DURATION:PT1H
X-Robots-Tag:noindex
X-PUBLISHED-TTL:PT1H
BEGIN:VTIMEZONE
TZID:America/New_York
BEGIN:DAYLIGHT
TZOFFSETFROM:-0500
TZOFFSETTO:-0400
TZNAME:EDT
DTSTART:20230312T070000
END:DAYLIGHT
BEGIN:STANDARD
TZOFFSETFROM:-0400
TZOFFSETTO:-0500
TZNAME:EST
DTSTART:20231105T060000
END:STANDARD
BEGIN:DAYLIGHT
TZOFFSETFROM:-0500
TZOFFSETTO:-0400
TZNAME:EDT
DTSTART:20240310T070000
END:DAYLIGHT
BEGIN:STANDARD
TZOFFSETFROM:-0400
TZOFFSETTO:-0500
TZNAME:EST
DTSTART:20241103T060000
END:STANDARD
BEGIN:DAYLIGHT
TZOFFSETFROM:-0500
TZOFFSETTO:-0400
TZNAME:EDT
DTSTART:20250309T070000
END:DAYLIGHT
BEGIN:STANDARD
TZOFFSETFROM:-0400
TZOFFSETTO:-0500
TZNAME:EST
DTSTART:20251102T060000
END:STANDARD
END:VTIMEZONE
BEGIN:VEVENT
DTSTART;TZID=America/New_York:20241026T080000
DTEND;TZID=America/New_York:20241026T170000
DTSTAMP:20260425T234928
CREATED:20240913T200553Z
LAST-MODIFIED:20241019T024435Z
UID:43759-1729929600-1729962000@berksphotographic.org
SUMMARY:Halloween Photo Shoot. 
DESCRIPTION:Annual Halloween Photo Shoot \nSaturday October 26 from 12:00pm-4:00pm at the GoggleWorks\,  room 326\nThis is free for our members and a $10.00 donation for non-members \nCome on out for our Beetlejuice themed Halloween photoshoot\, hosted by Richard Shay and Kim Sweimler. We will have 2 models for our studio part of this set up\, and they will be “Beetlejuice and Lydia”. \nPhotograph our annual “dry ice in the glass” and a carved pumpkin of Beetlejuice created by our talented professional pumpkin carver\, James Egitto. There will also be plenty of Halloween props set up in the hallway for shooting macro or still life. \nYou will need your camera\, a tripod and if you have your own pocket wizard\, bring that also. \nThis is a really fun hands-on event that you don’t want to miss.  If you are planning on coming to this photoshoot\, please give a response saying that you will be there\, so we can be prepared for your attendance. \nEmail\, Kim Sweimler at kim.sweimler@berksphotographic.com
URL:https://berksphotographic.org/event/halloween-photo-shoot/
END:VEVENT
END:VCALENDAR